Workbook
Name Print_Area_MI: #REF!

Sheet 申請書
AJ1: 様式第１号
A3: 令和８年度名古屋市社会福祉施設食材費高騰対策支援金
A4: 交付申請書（実績報告書兼請求書）
AC6: 令和 | AF6: 年 | AI6: 月 | AL6: 日
A8: （宛先）名古屋市長
T9: 法人名
Z11: 〒
A12: =IF(AND(AN36=TRUE,AN37=TRUE,AN38=TRUE)," ","下記の誓約事項をご確認いただき、☑をお願いします。") -> 下記の誓約事項をご確認いただき、☑をお願いします。 | T12: 所在地
T14: 代表者職氏名
T16: 担当者職氏名
T18: 電話番号
T20: E-mail
A22: 標記について、次のとおり申請します。
A23: なお、振込は下記振込先情報に記載の口座までお願いいたします。
A25: 記
A27: 1 | C27: 申請金額 | N27: =別紙!Z21 -> 0 | AB27: 円
A29: 2 | C29: 定員数 | N29: 地域生活支援事業 入所施設等 | T29: =別紙!W10 -> 0 | X29: 人 | Y29: （ | Z29: =別紙!Q10 -> 0 | AB29: 施設・事業所 | AG29: ）
N31: 地域生活支援事業 通所事業所等 | T31: =別紙!W19 -> 0 | X31: 人 | Y31: （ | Z31: =別紙!Q19 -> 0 | AB31: 施設・事業所 | AG31: ）
A33: 3 | C33: 誓約事項 | G33: =IF(AND(AN36=TRUE,AN37=TRUE,AN38=TRUE)," ","≪エラー≫下記の誓約事項に☑がないため、請求できません。☑が完了するとこのメッセージは消えます。") -> ≪エラー≫下記の誓約事項に☑がないため、請求できません。☑が完了するとこのメッセージは消えます。
C34: 以下の全ての条件を満たすことを誓約します。
D35: （条件を満たす場合、☑をしてください。条件を全て満たさない場合、請求できません。）
D36: （１） | E36: 令和8年6月1日時点において、別紙「施設・事業所一覧」に掲げる名古屋市内の施設等で、利用者に対するサービス提供を実施しています。 | AN36: FALSE
D37: （２） | E37: 事業者が利用者へ提供する食事に係る食材費の全部又は一部を負担しています。 | AN37: FALSE
D38: （３） | E38: この支援金は食材費高騰の影響を受けつつもサービスの質を維持するための経費に活用します。 | AN38: FALSE
A40: 4 | C40: 振込先口座
B41: 振 込 先 | C41: 金融機関名 | Q41: 店舗名 | Z41: 金融機関コード | AH41: 店番
C42: 口座名義(カナ) | AC42: 口座番号
C43: 口座名義 | AC43: 預金種別 | AH43: １．普通 | AK43: ２．当座
B44: ※振込先口座の金融機関名、店舗名、口座名義、口座番号、預金種別が分かる通帳の写し等を添付してください。

Sheet 別紙
AJ1: 別紙
A2: 施設・事業所一覧
A3: （１）地域生活支援事業入所施設等（福祉ホーム）
A4: No. | B4: 事業所番号 | G4: 施設・事業所名 | Q4: サービス種別 | W4: 定員数 | Z4: 単価 | AC4: 申請額 （円） | AG4: 備考
A5: 1 | Z5: 4500 | AC5: =W5*Z5 -> 0
A6: 2 | Z6: 4500 | AC6: =W6*Z6 -> 0
A7: 3 | Z7: 4500 | AC7: =W7*Z7 -> 0
A8: 4 | Z8: 4500 | AC8: =W8*Z8 -> 0
A9: 5 | Z9: 4500 | AC9: =W9*Z9 -> 0
A10: 計 | Q10: =COUNTA(Q5:V9) -> 0 | W10: =SUM(W5:Y9) -> 0 | AC10: =SUM(AC5:AF9) -> 0
A12: （２）地域生活支援事業通所事業所等（地域活動支援センター等）
A13: No. | B13: 事業所番号 | G13: 施設・事業所名 | Q13: サービス種別 | W13: 定員数 | Z13: 単価 | AC13: 申請額 （円） | AG13: 備考
A14: 1 | Z14: 1500 | AC14: =W14*Z14 -> 0
A15: 2 | Z15: 1500 | AC15: =W15*Z15 -> 0
A16: 3 | Z16: 1500 | AC16: =W16*Z16 -> 0
A17: 4 | Z17: 1500 | AC17: =W17*Z17 -> 0
A18: 5 | Z18: 1500 | AC18: =W18*Z18 -> 0
A19: 計 | Q19: =COUNTA(Q14:V18) -> 0 | W19: =SUM(W14:Y18) -> 0 | AC19: =SUM(AC14:AF18) -> 0
T21: 申請額合計 | Z21: =AC10+AC19 -> 0 | AD21: 円

Sheet プルダウンリスト
A1: 地域生活支援事業入所施設等 | B1: 地域生活支援事業通所施設等
A2: 福祉ホーム | B2: 精神障害者地域活動支援
B3: デイサービス型地域活動支援
B4: 作業所型地域活動支援
B5: 日中一時受入（あいち診療所滝の水「憩いの学校」に限る）
